BEGIN:VCALENDAR
VERSION:2.0
PRODID:-//The Great British Koi Club - ECPv6.15.20//NONSGML v1.0//EN
CALSCALE:GREGORIAN
METHOD:PUBLISH
X-ORIGINAL-URL:https://ysbkks.uk
X-WR-CALDESC:Events for The Great British Koi Club
REFRESH-INTERVAL;VALUE=DURATION:PT1H
X-Robots-Tag:noindex
X-PUBLISHED-TTL:PT1H
BEGIN:VTIMEZONE
TZID:Europe/London
BEGIN:DAYLIGHT
TZOFFSETFROM:+0000
TZOFFSETTO:+0100
TZNAME:BST
DTSTART:20210328T010000
END:DAYLIGHT
BEGIN:STANDARD
TZOFFSETFROM:+0100
TZOFFSETTO:+0000
TZNAME:GMT
DTSTART:20211031T010000
END:STANDARD
BEGIN:DAYLIGHT
TZOFFSETFROM:+0000
TZOFFSETTO:+0100
TZNAME:BST
DTSTART:20220327T010000
END:DAYLIGHT
BEGIN:STANDARD
TZOFFSETFROM:+0100
TZOFFSETTO:+0000
TZNAME:GMT
DTSTART:20221030T010000
END:STANDARD
BEGIN:DAYLIGHT
TZOFFSETFROM:+0000
TZOFFSETTO:+0100
TZNAME:BST
DTSTART:20230326T010000
END:DAYLIGHT
BEGIN:STANDARD
TZOFFSETFROM:+0100
TZOFFSETTO:+0000
TZNAME:GMT
DTSTART:20231029T010000
END:STANDARD
END:VTIMEZONE
BEGIN:VEVENT
DTSTART;TZID=Europe/London:20220405T190000
DTEND;TZID=Europe/London:20220405T220000
DTSTAMP:20260423T194243
CREATED:20220313T123254Z
LAST-MODIFIED:20220313T143955Z
UID:2686-1649185200-1649196000@ysbkks.uk
SUMMARY:Members' Meeting
DESCRIPTION:Our first outdoor meeting of the year will be held at the home of Shaun and Linda Gee.
URL:https://ysbkks.uk/event/members-meeting-4/
LOCATION:14 Chapel Garth                                Broomfleet                                         Nr Brough East Yorks                        HU15 1RP\, 14 Chapel Garth\, Broomfleet\, Nr. Brough\, East Yorkshire\, HU15 1RP
ORGANIZER;CN="Paul McLennan":MAILTO:pro@ysbkks.uk
END:VEVENT
END:VCALENDAR